BEGIN:VCALENDAR
VERSION:2.0
PRODID:-//ARAISA - ECPv6.15.20//NONSGML v1.0//EN
CALSCALE:GREGORIAN
METHOD:PUBLISH
X-WR-CALNAME:ARAISA
X-ORIGINAL-URL:https://araisa.ca
X-WR-CALDESC:Events for ARAISA
REFRESH-INTERVAL;VALUE=DURATION:PT1H
X-Robots-Tag:noindex
X-PUBLISHED-TTL:PT1H
BEGIN:VTIMEZONE
TZID:America/Halifax
BEGIN:DAYLIGHT
TZOFFSETFROM:-0400
TZOFFSETTO:-0300
TZNAME:ADT
DTSTART:20250309T060000
END:DAYLIGHT
BEGIN:STANDARD
TZOFFSETFROM:-0300
TZOFFSETTO:-0400
TZNAME:AST
DTSTART:20251102T050000
END:STANDARD
BEGIN:DAYLIGHT
TZOFFSETFROM:-0400
TZOFFSETTO:-0300
TZNAME:ADT
DTSTART:20260308T060000
END:DAYLIGHT
BEGIN:STANDARD
TZOFFSETFROM:-0300
TZOFFSETTO:-0400
TZNAME:AST
DTSTART:20261101T050000
END:STANDARD
BEGIN:DAYLIGHT
TZOFFSETFROM:-0400
TZOFFSETTO:-0300
TZNAME:ADT
DTSTART:20270314T060000
END:DAYLIGHT
BEGIN:STANDARD
TZOFFSETFROM:-0300
TZOFFSETTO:-0400
TZNAME:AST
DTSTART:20271107T050000
END:STANDARD
END:VTIMEZONE
BEGIN:VEVENT
DTSTART;TZID=America/Halifax:20260219T150000
DTEND;TZID=America/Halifax:20260219T160000
DTSTAMP:20260420T134942
CREATED:20260211T145412Z
LAST-MODIFIED:20260211T145413Z
UID:7879-1771513200-1771516800@araisa.ca
SUMMARY:National Online Community of Practice Orientation Session
DESCRIPTION:During this session\, you will learn essential navigation skills designed for new and current National Online Community of Practice members working in Canada’s immigrant and refugee-serving sector.
URL:https://araisa.ca/event/national-online-community-of-practice-orientation-session/
LOCATION:QC
CATEGORIES:English,Webinar
END:VEVENT
END:VCALENDAR