BEGIN:VCALENDAR
VERSION:2.0
PRODID:-//ARAISA - ECPv6.15.20//NONSGML v1.0//EN
CALSCALE:GREGORIAN
METHOD:PUBLISH
X-WR-CALNAME:ARAISA
X-ORIGINAL-URL:https://araisa.ca
X-WR-CALDESC:Events for ARAISA
REFRESH-INTERVAL;VALUE=DURATION:PT1H
X-Robots-Tag:noindex
X-PUBLISHED-TTL:PT1H
BEGIN:VTIMEZONE
TZID:America/Halifax
BEGIN:DAYLIGHT
TZOFFSETFROM:-0400
TZOFFSETTO:-0300
TZNAME:ADT
DTSTART:20240310T060000
END:DAYLIGHT
BEGIN:STANDARD
TZOFFSETFROM:-0300
TZOFFSETTO:-0400
TZNAME:AST
DTSTART:20241103T050000
END:STANDARD
BEGIN:DAYLIGHT
TZOFFSETFROM:-0400
TZOFFSETTO:-0300
TZNAME:ADT
DTSTART:20250309T060000
END:DAYLIGHT
BEGIN:STANDARD
TZOFFSETFROM:-0300
TZOFFSETTO:-0400
TZNAME:AST
DTSTART:20251102T050000
END:STANDARD
BEGIN:DAYLIGHT
TZOFFSETFROM:-0400
TZOFFSETTO:-0300
TZNAME:ADT
DTSTART:20260308T060000
END:DAYLIGHT
BEGIN:STANDARD
TZOFFSETFROM:-0300
TZOFFSETTO:-0400
TZNAME:AST
DTSTART:20261101T050000
END:STANDARD
END:VTIMEZONE
BEGIN:VEVENT
DTSTART;TZID=America/Halifax:20251002T163000
DTEND;TZID=America/Halifax:20251002T200000
DTSTAMP:20260425T130229
CREATED:20250806T145438Z
LAST-MODIFIED:20250806T145439Z
UID:7165-1759422600-1759435200@araisa.ca
SUMMARY:Building Together: Tools\, Training\, and Funds Distribution
DESCRIPTION:ARAISA recently launched the Equity Project in partnership with NBMC. The goal is to work with grassroots organizations to build capacity and support better access to funding. This consultation for grassroots organizations is a great opportunity to come together\, share insights\, and collaborate on advancing equity in our communities. \n\n\n\nPlease note that these consultations are for grassroots organizations not currently funded by IRCC.
URL:https://araisa.ca/event/building-together-tools-training-and-funds-distribution-5/
LOCATION:Orange Room\, Alt Hotel\, 125 Water Street\, St John's\, NL\, A1C5X4\, Canada
CATEGORIES:Consultation,English,French
ATTACH;FMTTYPE=image/png:https://araisa.ca/wp-content/uploads/2025/06/ARAISA_EquityProject_ThumbnailWebsite_2025.png
END:VEVENT
BEGIN:VEVENT
DTSTART;TZID=America/Halifax:20251006T160000
DTEND;TZID=America/Halifax:20251006T170000
DTSTAMP:20260425T130229
CREATED:20251001T200818Z
LAST-MODIFIED:20251001T200903Z
UID:7409-1759766400-1759770000@araisa.ca
SUMMARY:Webinaire : Premier regard sur les données de L’OTM Nouveaux arrivants 2025
DESCRIPTION:Ce webinaire met en lumière les premiers résultats de l’enquête OTM Nouveaux arrivants 2025 et explore comment les appliquer dans des contextes réels\, de manière pratique et sans alourdir votre charge de travail. La session examinera les modes de communication et les lacunes qui affectent la sensibilisation\, la conception des programmes\, les demandes de financement et les partenariats communautaires.
URL:https://araisa.ca/event/webinaire-premier-regard-sur-les-donnees-de-lotm-nouveaux-arrivants-2025/
LOCATION:QC
CATEGORIES:French,Webinar
END:VEVENT
BEGIN:VEVENT
DTSTART;TZID=America/Halifax:20251007T140000
DTEND;TZID=America/Halifax:20251007T150000
DTSTAMP:20260425T130229
CREATED:20250923T185033Z
LAST-MODIFIED:20250923T185058Z
UID:7380-1759845600-1759849200@araisa.ca
SUMMARY:Webinaire : Survol des principales mesures financières pour les personnes en situation de handicap
DESCRIPTION:
URL:https://araisa.ca/event/webinaire-survol-des-principales-mesures-financieres-pour-les-personnes-en-situation-de-handicap/
LOCATION:QC
CATEGORIES:French,Webinar
END:VEVENT
BEGIN:VEVENT
DTSTART;TZID=America/Halifax:20251008T143000
DTEND;TZID=America/Halifax:20251008T153000
DTSTAMP:20260425T130229
CREATED:20251001T200158Z
LAST-MODIFIED:20251001T200200Z
UID:7402-1759933800-1759937400@araisa.ca
SUMMARY:Small Business\, Big Impact: Immigrant Hiring and Integration in Five Canadian Cities
DESCRIPTION:This virtual presentation explores how Canada’s small and medium-sized enterprises (SMEs) are navigating labour shortages and what can be done to better meet labour needs by leveraging the pool of immigrant talent.
URL:https://araisa.ca/event/small-business-big-impact-immigrant-hiring-and-integration-in-five-canadian-cities/
LOCATION:QC
CATEGORIES:English,French,Webinar
END:VEVENT
BEGIN:VEVENT
DTSTART;TZID=America/Halifax:20251008T163000
DTEND;TZID=America/Halifax:20251008T200000
DTSTAMP:20260425T130229
CREATED:20250806T145614Z
LAST-MODIFIED:20250806T145617Z
UID:7168-1759941000-1759953600@araisa.ca
SUMMARY:Building Together: Tools\, Training\, and Funds Distribution
DESCRIPTION:ARAISA recently launched the Equity Project in partnership with NBMC. The goal is to work with grassroots organizations to build capacity and support better access to funding. This consultation for grassroots organizations is a great opportunity to come together\, share insights\, and collaborate on advancing equity in our communities. \n\n\n\nPlease note that these consultations are for grassroots organizations not currently funded by IRCC.
URL:https://araisa.ca/event/building-together-tools-training-and-funds-distribution-6/
LOCATION:Celtic Room\, Simon Hotel\, 380 Esplanade\, Sydney\, NS\, B1P1B1\, Canada
CATEGORIES:Consultation,English,French
ATTACH;FMTTYPE=image/png:https://araisa.ca/wp-content/uploads/2025/06/ARAISA_EquityProject_ThumbnailWebsite_2025.png
END:VEVENT
BEGIN:VEVENT
DTSTART;TZID=America/Halifax:20251009T100000
DTEND;TZID=America/Halifax:20251009T113000
DTSTAMP:20260425T130229
CREATED:20251001T195819Z
LAST-MODIFIED:20251001T195820Z
UID:7401-1760004000-1760009400@araisa.ca
SUMMARY:Webinar: Promising Practices and Strategies to Support Refugee Youth Employment
DESCRIPTION:This interactive webinar will explore how to support refugee youth on their paths to meaningful employment. Presenters will share evidence-based practices and strategies that prepare refugee youth for career pathways\, and participants will have the opportunity to consider how these lessons can be adapted for different organizations\, programs\, and communities.  
URL:https://araisa.ca/event/webinar-promising-practices-and-strategies-to-support-refugee-youth-employment/
LOCATION:QC
CATEGORIES:English,French,Webinar
END:VEVENT
BEGIN:VEVENT
DTSTART;TZID=America/Halifax:20251029T000000
DTEND;TZID=America/Halifax:20251030T235959
DTSTAMP:20260425T130229
CREATED:20250528T132856Z
LAST-MODIFIED:20250528T132858Z
UID:6797-1761696000-1761868799@araisa.ca
SUMMARY:8th Metropolis Identities Conference
DESCRIPTION:
URL:https://araisa.ca/event/8th-metropolis-identities-conference/
LOCATION:Delta Hotel by Marriott Downtown Saskatoon \, Saskatchewan\, 405 20th St E\, Saskatoon\, SK\, S7K 6X6\, Canada
CATEGORIES:Conference,English,French
END:VEVENT
END:VCALENDAR