BEGIN:VCALENDAR
VERSION:2.0
PRODID:-//ARAISA - ECPv6.15.20//NONSGML v1.0//EN
CALSCALE:GREGORIAN
METHOD:PUBLISH
X-WR-CALNAME:ARAISA
X-ORIGINAL-URL:https://araisa.ca
X-WR-CALDESC:Events for ARAISA
REFRESH-INTERVAL;VALUE=DURATION:PT1H
X-Robots-Tag:noindex
X-PUBLISHED-TTL:PT1H
BEGIN:VTIMEZONE
TZID:America/Halifax
BEGIN:DAYLIGHT
TZOFFSETFROM:-0400
TZOFFSETTO:-0300
TZNAME:ADT
DTSTART:20250309T060000
END:DAYLIGHT
BEGIN:STANDARD
TZOFFSETFROM:-0300
TZOFFSETTO:-0400
TZNAME:AST
DTSTART:20251102T050000
END:STANDARD
BEGIN:DAYLIGHT
TZOFFSETFROM:-0400
TZOFFSETTO:-0300
TZNAME:ADT
DTSTART:20260308T060000
END:DAYLIGHT
BEGIN:STANDARD
TZOFFSETFROM:-0300
TZOFFSETTO:-0400
TZNAME:AST
DTSTART:20261101T050000
END:STANDARD
BEGIN:DAYLIGHT
TZOFFSETFROM:-0400
TZOFFSETTO:-0300
TZNAME:ADT
DTSTART:20270314T060000
END:DAYLIGHT
BEGIN:STANDARD
TZOFFSETFROM:-0300
TZOFFSETTO:-0400
TZNAME:AST
DTSTART:20271107T050000
END:STANDARD
END:VTIMEZONE
BEGIN:VEVENT
DTSTART;TZID=America/Halifax:20260204T143000
DTEND;TZID=America/Halifax:20260204T153000
DTSTAMP:20260420T203727
CREATED:20260128T143913Z
LAST-MODIFIED:20260128T144030Z
UID:7833-1770215400-1770219000@araisa.ca
SUMMARY:Cadres d'évaluation
DESCRIPTION:Join us and find out how your organization can design and implement an effective assessment framework.
URL:https://araisa.ca/event/cadres-devaluation/
LOCATION:QC
CATEGORIES:French,Webinar
END:VEVENT
BEGIN:VEVENT
DTSTART;TZID=America/Halifax:20260205T130000
DTEND;TZID=America/Halifax:20260205T143000
DTSTAMP:20260420T203727
CREATED:20260128T144250Z
LAST-MODIFIED:20260128T144318Z
UID:7836-1770296400-1770301800@araisa.ca
SUMMARY:25 ans d’immigration francophone de l’Afrique subsaharienne
DESCRIPTION:
URL:https://araisa.ca/event/25-ans-dimmigration-francophone-de-lafrique-subsaharienne/
LOCATION:QC
CATEGORIES:French,Webinar
END:VEVENT
BEGIN:VEVENT
DTSTART;TZID=America/Halifax:20260211T080000
DTEND;TZID=America/Halifax:20260213T170000
DTSTAMP:20260420T203727
CREATED:20260114T120333Z
LAST-MODIFIED:20260114T120334Z
UID:7785-1770796800-1771002000@araisa.ca
SUMMARY:28th Annual National Metropolis Canada Conference
DESCRIPTION:This year’s theme: Changing course? Establishing Consensus on Canada’s immigration future \n\n\n\n“In October 2024 Canada unveiled a new Immigration Multi-Year Levels Plan that considerably reduced the targets for both permanent and temporary migrants. It constituted a dramatic modification from rising immigration numbers that characterized the previous decade. The move represents a departure from a vision for the country which saw immigration as critical to growth. The cuts have raised important questions about policies and programs. Reaching the targets has important ramifications for categories of immigrants\, different regions of the country\, and migrant countries of origin. Given the asymmetry in immigration policies in Canada\, the effects of these immigration level reductions will inevitably be uneven. \n\n\n\nWhat does this imply for the future of immigration in Canada? Is the direction we’re headed the best for the country in meeting future challenges? What are the unintended outcomes of these policy decisions? Do they advance Canada’s competitiveness in the current global economy or impede it? Do we need to consider changing course? \n\n\n\nThis important national gathering\, co-chaired by Paula Knight and Emmanuel Nahimana\, will seek to address the above questions.”
URL:https://araisa.ca/event/28th-annual-national-metropolis-canada-conference/
LOCATION:Halifax Convention Centre\, 1650 Argyle Street\, Halifax\, NS\, B3J 0E6\, Canada
CATEGORIES:Conference,English,French
END:VEVENT
BEGIN:VEVENT
DTSTART;TZID=America/Halifax:20260220T130000
DTEND;TZID=America/Halifax:20260220T143000
DTSTAMP:20260420T203727
CREATED:20260204T152900Z
LAST-MODIFIED:20260204T153009Z
UID:7853-1771592400-1771597800@araisa.ca
SUMMARY:Groupe de discussion National Newcomer Collective for Truth and Reconciliation (NNCTR) Francophone
DESCRIPTION:This focus group (in French) is part of a needs analysis process aimed at identifying strengths\, gaps and opportunities for improvement in truth and reconciliation efforts with Indigenous Peoples within the sector that supports newcomers.
URL:https://araisa.ca/event/groupe-de-discussion-national-newcomer-collective-for-truth-and-reconciliation-nnctr-francophone/
LOCATION:QC
CATEGORIES:Consultation,French
END:VEVENT
BEGIN:VEVENT
DTSTART;TZID=America/Halifax:20260225T143000
DTEND;TZID=America/Halifax:20260225T160000
DTSTAMP:20260420T203727
CREATED:20260211T150226Z
LAST-MODIFIED:20260211T150227Z
UID:7883-1772029800-1772035200@araisa.ca
SUMMARY:Canada’s Black Justice Strategy
DESCRIPTION:In 2025 the federal government announced a 10-year plan to implement recommendations in the Black Justice Strategy. Aimed at reducing systemic racism and the over-representation of Black communities in the justice system\, the strategy includes 114 recommendations covering areas such as policing\, courts\, corrections and social supports. \n\n\n\nThis webcast will bring community and government leaders together to discuss how and when the recommendations will be implemented\, along with strategies to support effective communication\, engagement and accountability.
URL:https://araisa.ca/event/canadas-black-justice-strategy/
LOCATION:QC
CATEGORIES:English,French,Webinar
END:VEVENT
BEGIN:VEVENT
DTSTART;TZID=America/Halifax:20260225T143000
DTEND;TZID=America/Halifax:20260225T160000
DTSTAMP:20260420T203727
CREATED:20260211T201855Z
LAST-MODIFIED:20260211T201856Z
UID:7887-1772029800-1772035200@araisa.ca
SUMMARY:How People Working for Refugee Resettlement can Engage with the Campaign 
DESCRIPTION:This custom training for those involved with sponsorship and resettlement efforts across Canada will walk you through how to use the “We’re Better Together” campaign to advocate for a fair and welcoming immigration system.
URL:https://araisa.ca/event/how-people-working-for-refugee-resettlement-can-engage-with-the-campaign/
LOCATION:QC
CATEGORIES:English,French,Webinar
END:VEVENT
END:VCALENDAR