BEGIN:VCALENDAR
VERSION:2.0
PRODID:-//ARAISA - ECPv6.15.20//NONSGML v1.0//EN
CALSCALE:GREGORIAN
METHOD:PUBLISH
X-ORIGINAL-URL:https://araisa.ca
X-WR-CALDESC:Events for ARAISA
REFRESH-INTERVAL;VALUE=DURATION:PT1H
X-Robots-Tag:noindex
X-PUBLISHED-TTL:PT1H
BEGIN:VTIMEZONE
TZID:America/Halifax
BEGIN:DAYLIGHT
TZOFFSETFROM:-0400
TZOFFSETTO:-0300
TZNAME:ADT
DTSTART:20240310T060000
END:DAYLIGHT
BEGIN:STANDARD
TZOFFSETFROM:-0300
TZOFFSETTO:-0400
TZNAME:AST
DTSTART:20241103T050000
END:STANDARD
BEGIN:DAYLIGHT
TZOFFSETFROM:-0400
TZOFFSETTO:-0300
TZNAME:ADT
DTSTART:20250309T060000
END:DAYLIGHT
BEGIN:STANDARD
TZOFFSETFROM:-0300
TZOFFSETTO:-0400
TZNAME:AST
DTSTART:20251102T050000
END:STANDARD
BEGIN:DAYLIGHT
TZOFFSETFROM:-0400
TZOFFSETTO:-0300
TZNAME:ADT
DTSTART:20260308T060000
END:DAYLIGHT
BEGIN:STANDARD
TZOFFSETFROM:-0300
TZOFFSETTO:-0400
TZNAME:AST
DTSTART:20261101T050000
END:STANDARD
END:VTIMEZONE
BEGIN:VEVENT
DTSTART;TZID=America/Halifax:20250904T150000
DTEND;TZID=America/Halifax:20250904T160000
DTSTAMP:20260425T224446
CREATED:20250730T120857Z
LAST-MODIFIED:20250730T120858Z
UID:7110-1756998000-1757001600@araisa.ca
SUMMARY:Réunion virtuelle sur les demandes présentées dans le cadre du délai prescrit d'un an (DPUA)
DESCRIPTION:This session (in French) will address issues related to eligibility for applications submitted within the one-year window of opportunity provision (OYW) (e.g.\, what to do if family members were not declared).
URL:https://araisa.ca/event/reunion-virtuelle-sur-les-demandes-presentees-dans-le-cadre-du-delai-prescrit-dun-an-dpua/
LOCATION:QC
CATEGORIES:French,Webinar
END:VEVENT
BEGIN:VEVENT
DTSTART;TZID=America/Halifax:20250904T150000
DTEND;TZID=America/Halifax:20250904T160000
DTSTAMP:20260425T224446
CREATED:20250903T164618Z
LAST-MODIFIED:20250903T164619Z
UID:7277-1756998000-1757001600@araisa.ca
SUMMARY:"Words That Move People" CCR Messaging Campaign
DESCRIPTION:A first look at the research results from Phase 1 of CCR’s national messaging campaign: the message testing survey conducted in partnership with ASO Communications and EKOS Research Associates Inc.
URL:https://araisa.ca/event/words-that-move-people-ccr-messaging-campaign/
LOCATION:QC
CATEGORIES:English,French,Webinar
END:VEVENT
END:VCALENDAR