BEGIN:VCALENDAR
VERSION:2.0
PRODID:-//ARAISA - ECPv6.15.20//NONSGML v1.0//EN
CALSCALE:GREGORIAN
METHOD:PUBLISH
X-WR-CALNAME:ARAISA
X-ORIGINAL-URL:https://araisa.ca
X-WR-CALDESC:Events for ARAISA
REFRESH-INTERVAL;VALUE=DURATION:PT1H
X-Robots-Tag:noindex
X-PUBLISHED-TTL:PT1H
BEGIN:VTIMEZONE
TZID:America/Halifax
BEGIN:DAYLIGHT
TZOFFSETFROM:-0400
TZOFFSETTO:-0300
TZNAME:ADT
DTSTART:20240310T060000
END:DAYLIGHT
BEGIN:STANDARD
TZOFFSETFROM:-0300
TZOFFSETTO:-0400
TZNAME:AST
DTSTART:20241103T050000
END:STANDARD
BEGIN:DAYLIGHT
TZOFFSETFROM:-0400
TZOFFSETTO:-0300
TZNAME:ADT
DTSTART:20250309T060000
END:DAYLIGHT
BEGIN:STANDARD
TZOFFSETFROM:-0300
TZOFFSETTO:-0400
TZNAME:AST
DTSTART:20251102T050000
END:STANDARD
BEGIN:DAYLIGHT
TZOFFSETFROM:-0400
TZOFFSETTO:-0300
TZNAME:ADT
DTSTART:20260308T060000
END:DAYLIGHT
BEGIN:STANDARD
TZOFFSETFROM:-0300
TZOFFSETTO:-0400
TZNAME:AST
DTSTART:20261101T050000
END:STANDARD
END:VTIMEZONE
BEGIN:VEVENT
DTSTART;TZID=America/Halifax:20250917T140000
DTEND;TZID=America/Halifax:20250917T153000
DTSTAMP:20260425T185328
CREATED:20250903T164234Z
LAST-MODIFIED:20250903T164429Z
UID:7274-1758117600-1758123000@araisa.ca
SUMMARY:Un outil innovant pour déterminer la faisabilité et la reproductibilité d’un projet en immigration
DESCRIPTION:This webinar is designed to support practitioners working in immigrant and refugee services. It will be organized by the national online community of practice settlenet.org in collaboration with the Réseau en Immigration Francophone Centre-Sud-Ouest Ontario. You will discover an innovative digital tool for quickly assessing the feasibility and replicability of your immigration projects. Intuitive and practical\, it guides your strategic decisions in just a few clicks. Optimize your efforts with clear and reliable data
URL:https://araisa.ca/event/un-outil-innovant-pour-determiner-la-faisabilite-et-la-reproductibilite-dun-projet-en-immigration/
LOCATION:QC
CATEGORIES:French,Webinar
END:VEVENT
END:VCALENDAR