BEGIN:VCALENDAR
VERSION:2.0
PRODID:-//ARAISA - ECPv6.15.20//NONSGML v1.0//EN
CALSCALE:GREGORIAN
METHOD:PUBLISH
X-WR-CALNAME:ARAISA
X-ORIGINAL-URL:https://araisa.ca
X-WR-CALDESC:Events for ARAISA
REFRESH-INTERVAL;VALUE=DURATION:PT1H
X-Robots-Tag:noindex
X-PUBLISHED-TTL:PT1H
BEGIN:VTIMEZONE
TZID:America/Halifax
BEGIN:DAYLIGHT
TZOFFSETFROM:-0400
TZOFFSETTO:-0300
TZNAME:ADT
DTSTART:20240310T060000
END:DAYLIGHT
BEGIN:STANDARD
TZOFFSETFROM:-0300
TZOFFSETTO:-0400
TZNAME:AST
DTSTART:20241103T050000
END:STANDARD
BEGIN:DAYLIGHT
TZOFFSETFROM:-0400
TZOFFSETTO:-0300
TZNAME:ADT
DTSTART:20250309T060000
END:DAYLIGHT
BEGIN:STANDARD
TZOFFSETFROM:-0300
TZOFFSETTO:-0400
TZNAME:AST
DTSTART:20251102T050000
END:STANDARD
BEGIN:DAYLIGHT
TZOFFSETFROM:-0400
TZOFFSETTO:-0300
TZNAME:ADT
DTSTART:20260308T060000
END:DAYLIGHT
BEGIN:STANDARD
TZOFFSETFROM:-0300
TZOFFSETTO:-0400
TZNAME:AST
DTSTART:20261101T050000
END:STANDARD
END:VTIMEZONE
BEGIN:VEVENT
DTSTART;TZID=America/Halifax:20251118T000000
DTEND;TZID=America/Halifax:20251120T235959
DTSTAMP:20260425T113333
CREATED:20250430T162156Z
LAST-MODIFIED:20250430T162158Z
UID:6678-1763424000-1763683199@araisa.ca
SUMMARY:CCR 2025 Consultation
DESCRIPTION:This year’s theme is Better Neighbours: Building the communities we need.  \n\n\n\nThis CCR consultation is an opportunity for the sector to come together and plan its future\, especially in the context of decreased funding and immigration caps. The event will discuss how to build stronger connections in our communities and with Indigenous peoples\, and how to support each other.
URL:https://araisa.ca/event/ccr-2025-consultation/
LOCATION:RBC Convention Centre Winnipeg\, 375 York Ave\, Winnipeg\, MB\, R3C 3J3\, Canada
CATEGORIES:Conference,English,French
END:VEVENT
BEGIN:VEVENT
DTSTART;TZID=America/Halifax:20251118T140000
DTEND;TZID=America/Halifax:20251118T153000
DTSTAMP:20260425T113333
CREATED:20251107T155601Z
LAST-MODIFIED:20251107T182206Z
UID:7509-1763474400-1763479800@araisa.ca
SUMMARY:Techquity in the digital age: Exploring the intersection of diversity\, equity\, inclusion\, accessibility\, and AI driven innovation
DESCRIPTION:This webinar\, in French\, examines strategies for leveraging AI to address inequities\, foster inclusion\, and build systems rooted in fairness. Gain actionable insights on using AI as a tool for innovation and driving equity-focused change.
URL:https://araisa.ca/event/techquity-in-the-digital-age-exploring-the-intersection-of-diversity-equity-inclusion-accessibility-and-ai-driven-innovation-2/
LOCATION:QC
CATEGORIES:French,Webinar
END:VEVENT
END:VCALENDAR