BEGIN:VCALENDAR
VERSION:2.0
PRODID:-//ARAISA - ECPv6.15.20//NONSGML v1.0//EN
CALSCALE:GREGORIAN
METHOD:PUBLISH
X-WR-CALNAME:ARAISA
X-ORIGINAL-URL:https://araisa.ca
X-WR-CALDESC:Events for ARAISA
REFRESH-INTERVAL;VALUE=DURATION:PT1H
X-Robots-Tag:noindex
X-PUBLISHED-TTL:PT1H
BEGIN:VTIMEZONE
TZID:America/Halifax
BEGIN:DAYLIGHT
TZOFFSETFROM:-0400
TZOFFSETTO:-0300
TZNAME:ADT
DTSTART:20250309T060000
END:DAYLIGHT
BEGIN:STANDARD
TZOFFSETFROM:-0300
TZOFFSETTO:-0400
TZNAME:AST
DTSTART:20251102T050000
END:STANDARD
BEGIN:DAYLIGHT
TZOFFSETFROM:-0400
TZOFFSETTO:-0300
TZNAME:ADT
DTSTART:20260308T060000
END:DAYLIGHT
BEGIN:STANDARD
TZOFFSETFROM:-0300
TZOFFSETTO:-0400
TZNAME:AST
DTSTART:20261101T050000
END:STANDARD
BEGIN:DAYLIGHT
TZOFFSETFROM:-0400
TZOFFSETTO:-0300
TZNAME:ADT
DTSTART:20270314T060000
END:DAYLIGHT
BEGIN:STANDARD
TZOFFSETFROM:-0300
TZOFFSETTO:-0400
TZNAME:AST
DTSTART:20271107T050000
END:STANDARD
END:VTIMEZONE
BEGIN:VEVENT
DTSTART;TZID=America/Halifax:20260127T140000
DTEND;TZID=America/Halifax:20260127T153000
DTSTAMP:20260421T045453
CREATED:20260121T172812Z
LAST-MODIFIED:20260121T172813Z
UID:7800-1769522400-1769527800@araisa.ca
SUMMARY:Webinaire - Islamophobie genrée au Canada: quand le genre\, la foi et le racisme se croisent
DESCRIPTION:
URL:https://araisa.ca/event/webinaire-islamophobie-genree-au-canada-quand-le-genre-la-foi-et-le-racisme-se-croisent/
LOCATION:QC
CATEGORIES:French,Webinar
END:VEVENT
END:VCALENDAR