BEGIN:VCALENDAR
VERSION:2.0
PRODID:-//ARAISA - ECPv6.15.20//NONSGML v1.0//EN
CALSCALE:GREGORIAN
METHOD:PUBLISH
X-WR-CALNAME:ARAISA
X-ORIGINAL-URL:https://araisa.ca
X-WR-CALDESC:Events for ARAISA
REFRESH-INTERVAL;VALUE=DURATION:PT1H
X-Robots-Tag:noindex
X-PUBLISHED-TTL:PT1H
BEGIN:VTIMEZONE
TZID:America/Halifax
BEGIN:DAYLIGHT
TZOFFSETFROM:-0400
TZOFFSETTO:-0300
TZNAME:ADT
DTSTART:20240310T060000
END:DAYLIGHT
BEGIN:STANDARD
TZOFFSETFROM:-0300
TZOFFSETTO:-0400
TZNAME:AST
DTSTART:20241103T050000
END:STANDARD
BEGIN:DAYLIGHT
TZOFFSETFROM:-0400
TZOFFSETTO:-0300
TZNAME:ADT
DTSTART:20250309T060000
END:DAYLIGHT
BEGIN:STANDARD
TZOFFSETFROM:-0300
TZOFFSETTO:-0400
TZNAME:AST
DTSTART:20251102T050000
END:STANDARD
BEGIN:DAYLIGHT
TZOFFSETFROM:-0400
TZOFFSETTO:-0300
TZNAME:ADT
DTSTART:20260308T060000
END:DAYLIGHT
BEGIN:STANDARD
TZOFFSETFROM:-0300
TZOFFSETTO:-0400
TZNAME:AST
DTSTART:20261101T050000
END:STANDARD
BEGIN:DAYLIGHT
TZOFFSETFROM:-0400
TZOFFSETTO:-0300
TZNAME:ADT
DTSTART:20270314T060000
END:DAYLIGHT
BEGIN:STANDARD
TZOFFSETFROM:-0300
TZOFFSETTO:-0400
TZNAME:AST
DTSTART:20271107T050000
END:STANDARD
END:VTIMEZONE
BEGIN:VEVENT
DTSTART;TZID=America/Halifax:20260325T140000
DTEND;TZID=America/Halifax:20260325T153000
DTSTAMP:20260420T202750
CREATED:20260313T191705Z
LAST-MODIFIED:20260313T191708Z
UID:8013-1774447200-1774452600@araisa.ca
SUMMARY:Unlocking Immigrant Talent
DESCRIPTION:Signal49 Research\, in collaboration with the Future Skills Centre\, is hosting a virtual stakeholder forum to explore findings from the Immigrant Skill Utilization Scorecard. This event will spotlight municipal performance trends\, key drivers of skill underutilization\, and actionable strategies to better leverage immigrant talent. Attendees will engage with experts from policy\, education\, and industry to co-develop practical solutions for improving immigrant employment outcomes across Canada. 
URL:https://araisa.ca/event/unlocking-immigrant-talent/
LOCATION:QC
CATEGORIES:English,French,Webinar
END:VEVENT
BEGIN:VEVENT
DTSTART;TZID=America/Halifax:20260311T140000
DTEND;TZID=America/Halifax:20260311T150000
DTSTAMP:20260420T202750
CREATED:20260211T145128Z
LAST-MODIFIED:20260211T145208Z
UID:7878-1773237600-1773241200@araisa.ca
SUMMARY:Réaliser des audits d’équité et créer des groupes de travail sur l’équité
DESCRIPTION:This interactive workshop\, in French\, is aimed at leaders and staff of NPOs and charities\, as well as equity practitioners\, who are looking to make their organization’s equity efforts a reality\, and to strengthen their ability to put these values into practice on a daily basis.
URL:https://araisa.ca/event/realiser-des-audits-dequite-et-creer-des-groupes-de-travail-sur-lequite/
LOCATION:QC
CATEGORIES:French,Webinar
END:VEVENT
BEGIN:VEVENT
DTSTART;TZID=America/Halifax:20260305T140000
DTEND;TZID=America/Halifax:20260305T160000
DTSTAMP:20260420T202750
CREATED:20260218T134041Z
LAST-MODIFIED:20260218T134043Z
UID:7943-1772719200-1772726400@araisa.ca
SUMMARY:Using Data to Strengthen Funding Proposals
DESCRIPTION:This ARAISA webinar will explore how immigrant-serving organizations can use data to write evidence-based funding proposals. Evidence should inform every aspect of settlement and integration services\, from initial planning to delivery and reporting. Interest holders\, such as funders and community partners\, should also understand how data and evidence have informed services. Service providers can use data to demonstrate the need for services as well as the expected impact for clients and communities. This webinar will address the structure of funding proposals\, different types of data\, finding relevant data\, using data to tell stories\, and other tips and tricks.
URL:https://araisa.ca/event/using-data-to-strengthen-funding-proposals/
LOCATION:QC
CATEGORIES:English,French,Webinar
ATTACH;FMTTYPE=image/png:https://araisa.ca/wp-content/uploads/2026/02/ARAISA-webinar-data-for-funding_Feb2026-scaled.png
END:VEVENT
BEGIN:VEVENT
DTSTART;TZID=America/Halifax:20260305T080000
DTEND;TZID=America/Halifax:20260305T170000
DTSTAMP:20260420T202750
CREATED:20260211T202856Z
LAST-MODIFIED:20260211T202938Z
UID:7894-1772697600-1772730000@araisa.ca
SUMMARY:Séminaire immigration et vitalité des communautés francophones
DESCRIPTION:This interdisciplinary seminar\, in French\, combines theoretical reflection\, methodological demonstration and dialogue rooted in the realities of the field.
URL:https://araisa.ca/event/seminaire-immigration-et-vitalite-des-communautes-francophones/
LOCATION:Université de l’Ontario français\, 9 Lower Jarvis Street\, Toronto\, ON\, M5E 0C3\, Canada
CATEGORIES:Conference,French
END:VEVENT
BEGIN:VEVENT
DTSTART;TZID=America/Halifax:20260303T000000
DTEND;TZID=America/Halifax:20260305T235959
DTSTAMP:20260420T202750
CREATED:20260211T202333Z
LAST-MODIFIED:20260211T202334Z
UID:7889-1772496000-1772755199@araisa.ca
SUMMARY:National Equity & Racial Justice Conference 
DESCRIPTION:The Canadian Network for Equity and Racial Justice (CNERJ) will host its second National Conference in March 2026 in Ottawa. This gathering brings together community leaders\, organizers\, advocates\, researchers\, and policy changemakers from across the country to move our work from analysis to action planning.
URL:https://araisa.ca/event/national-equity-racial-justice-conference/
LOCATION:DoubleTree by Hilton Ottawa Downtown\, 33 Nicholas Street\, Ottawa\, ON\, K1N 9M7\, Canada
CATEGORIES:Conference,English,French
END:VEVENT
BEGIN:VEVENT
DTSTART;TZID=America/Halifax:20260225T143000
DTEND;TZID=America/Halifax:20260225T160000
DTSTAMP:20260420T202750
CREATED:20260211T201855Z
LAST-MODIFIED:20260211T201856Z
UID:7887-1772029800-1772035200@araisa.ca
SUMMARY:How People Working for Refugee Resettlement can Engage with the Campaign 
DESCRIPTION:This custom training for those involved with sponsorship and resettlement efforts across Canada will walk you through how to use the “We’re Better Together” campaign to advocate for a fair and welcoming immigration system.
URL:https://araisa.ca/event/how-people-working-for-refugee-resettlement-can-engage-with-the-campaign/
LOCATION:QC
CATEGORIES:English,French,Webinar
END:VEVENT
BEGIN:VEVENT
DTSTART;TZID=America/Halifax:20260225T143000
DTEND;TZID=America/Halifax:20260225T160000
DTSTAMP:20260420T202750
CREATED:20260211T150226Z
LAST-MODIFIED:20260211T150227Z
UID:7883-1772029800-1772035200@araisa.ca
SUMMARY:Canada’s Black Justice Strategy
DESCRIPTION:In 2025 the federal government announced a 10-year plan to implement recommendations in the Black Justice Strategy. Aimed at reducing systemic racism and the over-representation of Black communities in the justice system\, the strategy includes 114 recommendations covering areas such as policing\, courts\, corrections and social supports. \n\n\n\nThis webcast will bring community and government leaders together to discuss how and when the recommendations will be implemented\, along with strategies to support effective communication\, engagement and accountability.
URL:https://araisa.ca/event/canadas-black-justice-strategy/
LOCATION:QC
CATEGORIES:English,French,Webinar
END:VEVENT
BEGIN:VEVENT
DTSTART;TZID=America/Halifax:20260220T130000
DTEND;TZID=America/Halifax:20260220T143000
DTSTAMP:20260420T202750
CREATED:20260204T152900Z
LAST-MODIFIED:20260204T153009Z
UID:7853-1771592400-1771597800@araisa.ca
SUMMARY:Groupe de discussion National Newcomer Collective for Truth and Reconciliation (NNCTR) Francophone
DESCRIPTION:This focus group (in French) is part of a needs analysis process aimed at identifying strengths\, gaps and opportunities for improvement in truth and reconciliation efforts with Indigenous Peoples within the sector that supports newcomers.
URL:https://araisa.ca/event/groupe-de-discussion-national-newcomer-collective-for-truth-and-reconciliation-nnctr-francophone/
LOCATION:QC
CATEGORIES:Consultation,French
END:VEVENT
BEGIN:VEVENT
DTSTART;TZID=America/Halifax:20260211T080000
DTEND;TZID=America/Halifax:20260213T170000
DTSTAMP:20260420T202750
CREATED:20260114T120333Z
LAST-MODIFIED:20260114T120334Z
UID:7785-1770796800-1771002000@araisa.ca
SUMMARY:28th Annual National Metropolis Canada Conference
DESCRIPTION:This year’s theme: Changing course? Establishing Consensus on Canada’s immigration future \n\n\n\n“In October 2024 Canada unveiled a new Immigration Multi-Year Levels Plan that considerably reduced the targets for both permanent and temporary migrants. It constituted a dramatic modification from rising immigration numbers that characterized the previous decade. The move represents a departure from a vision for the country which saw immigration as critical to growth. The cuts have raised important questions about policies and programs. Reaching the targets has important ramifications for categories of immigrants\, different regions of the country\, and migrant countries of origin. Given the asymmetry in immigration policies in Canada\, the effects of these immigration level reductions will inevitably be uneven. \n\n\n\nWhat does this imply for the future of immigration in Canada? Is the direction we’re headed the best for the country in meeting future challenges? What are the unintended outcomes of these policy decisions? Do they advance Canada’s competitiveness in the current global economy or impede it? Do we need to consider changing course? \n\n\n\nThis important national gathering\, co-chaired by Paula Knight and Emmanuel Nahimana\, will seek to address the above questions.”
URL:https://araisa.ca/event/28th-annual-national-metropolis-canada-conference/
LOCATION:Halifax Convention Centre\, 1650 Argyle Street\, Halifax\, NS\, B3J 0E6\, Canada
CATEGORIES:Conference,English,French
END:VEVENT
BEGIN:VEVENT
DTSTART;TZID=America/Halifax:20260205T130000
DTEND;TZID=America/Halifax:20260205T143000
DTSTAMP:20260420T202750
CREATED:20260128T144250Z
LAST-MODIFIED:20260128T144318Z
UID:7836-1770296400-1770301800@araisa.ca
SUMMARY:25 ans d’immigration francophone de l’Afrique subsaharienne
DESCRIPTION:
URL:https://araisa.ca/event/25-ans-dimmigration-francophone-de-lafrique-subsaharienne/
LOCATION:QC
CATEGORIES:French,Webinar
END:VEVENT
BEGIN:VEVENT
DTSTART;TZID=America/Halifax:20260204T143000
DTEND;TZID=America/Halifax:20260204T153000
DTSTAMP:20260420T202750
CREATED:20260128T143913Z
LAST-MODIFIED:20260128T144030Z
UID:7833-1770215400-1770219000@araisa.ca
SUMMARY:Cadres d'évaluation
DESCRIPTION:Join us and find out how your organization can design and implement an effective assessment framework.
URL:https://araisa.ca/event/cadres-devaluation/
LOCATION:QC
CATEGORIES:French,Webinar
END:VEVENT
BEGIN:VEVENT
DTSTART;TZID=America/Halifax:20260128T140000
DTEND;TZID=America/Halifax:20260128T153000
DTSTAMP:20260420T202750
CREATED:20260114T114927Z
LAST-MODIFIED:20260114T114928Z
UID:7777-1769608800-1769614200@araisa.ca
SUMMARY:How Groups Working with Refugee Claimants can Engage with the “We’re Better Together” Campaign
DESCRIPTION:As support for immigrants\, and refugees has been backsliding in Canada\, the “We’re Better Together” campaign has been created to improve public opinion and build momentum for an inclusive immigration system. In this training\, we’ll cover the campaign’s messaging\, overall strategy\, and how to adapt the campaign to support your work with refugee claimants. Participants will gain a practical overview of our campaign’s Message Guide and learn how to apply the Race Class Gender Narrative effectively.  \n\n\n\nThis training will be delivered in English with the support of a French interpreter\, and presenters will be able to engage in questions bilingually.
URL:https://araisa.ca/event/how-groups-working-with-refugee-claimants-can-engage-with-the-were-better-together-campaign/
LOCATION:QC
CATEGORIES:English,French,Webinar
END:VEVENT
BEGIN:VEVENT
DTSTART;TZID=America/Halifax:20260127T140000
DTEND;TZID=America/Halifax:20260127T153000
DTSTAMP:20260420T202750
CREATED:20260121T172812Z
LAST-MODIFIED:20260121T172813Z
UID:7800-1769522400-1769527800@araisa.ca
SUMMARY:Webinaire - Islamophobie genrée au Canada: quand le genre\, la foi et le racisme se croisent
DESCRIPTION:
URL:https://araisa.ca/event/webinaire-islamophobie-genree-au-canada-quand-le-genre-la-foi-et-le-racisme-se-croisent/
LOCATION:QC
CATEGORIES:French,Webinar
END:VEVENT
BEGIN:VEVENT
DTSTART;TZID=America/Halifax:20260121T113000
DTEND;TZID=America/Halifax:20260121T123000
DTSTAMP:20260420T202750
CREATED:20251210T205934Z
LAST-MODIFIED:20251210T205935Z
UID:7641-1768995000-1768998600@araisa.ca
SUMMARY:Webinar: Baseline Cybersecurity Controls
DESCRIPTION:This webinar will help settlement agencies better prepare and respond to cyber threats.
URL:https://araisa.ca/event/webinar-baseline-cybersecurity-controls/
LOCATION:QC
CATEGORIES:English,French,Webinar
END:VEVENT
BEGIN:VEVENT
DTSTART;TZID=America/Halifax:20260119T130000
DTEND;TZID=America/Halifax:20260119T183000
DTSTAMP:20260420T202750
CREATED:20260114T115333Z
LAST-MODIFIED:20260114T115623Z
UID:7779-1768827600-1768847400@araisa.ca
SUMMARY:Plain Language for Accessibility and Inclusion – Plain Canada Clair’s 2026 Virtual conference
DESCRIPTION:Access to information is a fundamental human right\, yet there’s still much work to be done to advance accessibility and inclusion in our workplaces and communities.  \n\n\n\nPlain Canada Clair’s 2026 conference will shine the spotlight on plain language as an essential tool to create more accessible\, inclusive communications that meet everyone’s information needs. 
URL:https://araisa.ca/event/plain-language-for-accessibility-and-inclusion-plain-canada-clairs-2026-virtual-conference/
LOCATION:QC
CATEGORIES:Conference,English,French,Webinar
END:VEVENT
BEGIN:VEVENT
DTSTART;TZID=America/Halifax:20251203T130000
DTEND;TZID=America/Halifax:20251203T143000
DTSTAMP:20260420T202750
CREATED:20251107T155343Z
LAST-MODIFIED:20251107T155344Z
UID:7504-1764766800-1764772200@araisa.ca
SUMMARY:Roundtable: Amplifying the leadership of im/migrants with disabilities for an inclusive and sustainable future
DESCRIPTION:
URL:https://araisa.ca/event/roundtable-amplifying-the-leadership-of-im-migrants-with-disabilities-for-an-inclusive-and-sustainable-future/
LOCATION:QC
CATEGORIES:English,French,Webinar
END:VEVENT
BEGIN:VEVENT
DTSTART;TZID=America/Halifax:20251127T130000
DTEND;TZID=America/Halifax:20251127T173000
DTSTAMP:20260420T202750
CREATED:20251001T194959Z
LAST-MODIFIED:20251001T195001Z
UID:7393-1764248400-1764264600@araisa.ca
SUMMARY:Systemic Racism in Canada – Policy opportunities
DESCRIPTION:This Globe and Mail event in Calgary is part of the Finding Common Ground series of national conversations focused on systemic racism and policy needs in Canada. The event will explore solutions across immigration\, criminal justice\, climate response and online safety\, with a focus on actionable policies to create a more equitable Canada.
URL:https://araisa.ca/event/systemic-racism-in-canada-policy-opportunities/
LOCATION:Calgary\, AB\, Calgary\, AB\, Canada
CATEGORIES:Conference,English,French
END:VEVENT
BEGIN:VEVENT
DTSTART;TZID=America/Halifax:20251123T000000
DTEND;TZID=America/Halifax:20251127T235959
DTSTAMP:20260420T202750
CREATED:20250324T143336Z
LAST-MODIFIED:20250625T145001Z
UID:6481-1763856000-1764287999@araisa.ca
SUMMARY:Pathways to Prosperity 2025 National Conference
DESCRIPTION:For all the details about the conferences and all the events\, please visit the Conference website: https://site.pheedloop.com/event/p2pvvp2025/home  \n\n\n\nEarly bird rate available until September 30\, 2025.
URL:https://araisa.ca/event/pathways-to-prosperity-2025-national-conference/
LOCATION:Halifax Convention Centre\, 1650 Argyle Street\, Halifax\, NS\, B3J 0E6\, Canada
CATEGORIES:Conference,English,French
END:VEVENT
BEGIN:VEVENT
DTSTART;TZID=America/Halifax:20251118T140000
DTEND;TZID=America/Halifax:20251118T153000
DTSTAMP:20260420T202750
CREATED:20251107T155601Z
LAST-MODIFIED:20251107T182206Z
UID:7509-1763474400-1763479800@araisa.ca
SUMMARY:Techquity in the digital age: Exploring the intersection of diversity\, equity\, inclusion\, accessibility\, and AI driven innovation
DESCRIPTION:This webinar\, in French\, examines strategies for leveraging AI to address inequities\, foster inclusion\, and build systems rooted in fairness. Gain actionable insights on using AI as a tool for innovation and driving equity-focused change.
URL:https://araisa.ca/event/techquity-in-the-digital-age-exploring-the-intersection-of-diversity-equity-inclusion-accessibility-and-ai-driven-innovation-2/
LOCATION:QC
CATEGORIES:French,Webinar
END:VEVENT
BEGIN:VEVENT
DTSTART;TZID=America/Halifax:20251118T000000
DTEND;TZID=America/Halifax:20251120T235959
DTSTAMP:20260420T202750
CREATED:20250430T162156Z
LAST-MODIFIED:20250430T162158Z
UID:6678-1763424000-1763683199@araisa.ca
SUMMARY:CCR 2025 Consultation
DESCRIPTION:This year’s theme is Better Neighbours: Building the communities we need.  \n\n\n\nThis CCR consultation is an opportunity for the sector to come together and plan its future\, especially in the context of decreased funding and immigration caps. The event will discuss how to build stronger connections in our communities and with Indigenous peoples\, and how to support each other.
URL:https://araisa.ca/event/ccr-2025-consultation/
LOCATION:RBC Convention Centre Winnipeg\, 375 York Ave\, Winnipeg\, MB\, R3C 3J3\, Canada
CATEGORIES:Conference,English,French
END:VEVENT
BEGIN:VEVENT
DTSTART;TZID=America/Halifax:20251116T110000
DTEND;TZID=America/Halifax:20251116T183000
DTSTAMP:20260420T202750
CREATED:20251015T113527Z
LAST-MODIFIED:20251015T113529Z
UID:7436-1763290800-1763317800@araisa.ca
SUMMARY:2025 National Migrant Workers Forum
DESCRIPTION:Organized by the CCR’s Precarious and Exploited Migrants Committee\, the Forum focuses on “Voices of Resistance: Shaping the Future of Migrant Workers.” It provides a platform for migrant workers\, CCR members\, and grassroots organizations to strategize\, organize\, and advance advocacy priorities with the Canadian government and decision-makers\, while enhancing the knowledge and expertise of migrant workers\, activists\, front-line workers\, and advocates.
URL:https://araisa.ca/event/2025-national-migrant-workers-forum/
LOCATION:University of Winnipeg\, 515 Portage Avenue\, Winnipeg\, MB\, R3B 2E9\, Canada
CATEGORIES:Conference,English,French
END:VEVENT
BEGIN:VEVENT
DTSTART;TZID=America/Halifax:20251113T080000
DTEND;TZID=America/Halifax:20251114T170000
DTSTAMP:20260420T202750
CREATED:20250903T163828Z
LAST-MODIFIED:20250903T163903Z
UID:7271-1763020800-1763139600@araisa.ca
SUMMARY:8e Colloque atlantique sur l'immigration francophone
DESCRIPTION:
URL:https://araisa.ca/event/8e-colloque-atlantique-sur-limmigration-francophone/
LOCATION:Charlottetown\, Charlottetown\, PEI
CATEGORIES:Conference,French
END:VEVENT
BEGIN:VEVENT
DTSTART;TZID=America/Halifax:20251106T140000
DTEND;TZID=America/Halifax:20251106T150000
DTSTAMP:20260420T202750
CREATED:20251022T133406Z
LAST-MODIFIED:20251022T133458Z
UID:7471-1762437600-1762441200@araisa.ca
SUMMARY:Comment promouvoir la santé du sommeil dans les populations de réfugiés
DESCRIPTION:Improving sleep for refugees – issues\, insomnia\, stress\, concrete solutions with Drs Mak and Attarian. (Webinar in French)
URL:https://araisa.ca/event/comment-promouvoir-la-sante-du-sommeil-dans-les-populations-de-refugies/
LOCATION:QC
CATEGORIES:French,Webinar
END:VEVENT
BEGIN:VEVENT
DTSTART;TZID=America/Halifax:20251106T130000
DTEND;TZID=America/Halifax:20251106T143000
DTSTAMP:20260420T202750
CREATED:20251029T135639Z
LAST-MODIFIED:20251029T135640Z
UID:7480-1762434000-1762439400@araisa.ca
SUMMARY:Enquête sur les barrières systémiques à l’immigration francophone au Canada : résultats préliminaires
DESCRIPTION:
URL:https://araisa.ca/event/enquete-sur-les-barrieres-systemiques-a-limmigration-francophone-au-canada-resultats-preliminaires/
LOCATION:QC
CATEGORIES:French,Webinar
END:VEVENT
BEGIN:VEVENT
DTSTART;TZID=America/Halifax:20251105T143000
DTEND;TZID=America/Halifax:20251105T160000
DTSTAMP:20260420T202750
CREATED:20251029T135417Z
LAST-MODIFIED:20251029T135418Z
UID:7478-1762353000-1762358400@araisa.ca
SUMMARY:Webinar: Interprovincial Mobility of Francophone Immigrants
DESCRIPTION:This presentation analyzes the latest data on interprovincial mobility and retention rates to better understand why some Francophone immigrants leave Quebec to settle elsewhere in Canada.
URL:https://araisa.ca/event/webinar-interprovincial-mobility-of-francophone-immigrants/
LOCATION:QC
CATEGORIES:English,French,Webinar
END:VEVENT
BEGIN:VEVENT
DTSTART;TZID=America/Halifax:20251105T143000
DTEND;TZID=America/Halifax:20251105T160000
DTSTAMP:20260420T202750
CREATED:20251029T135159Z
LAST-MODIFIED:20251029T135200Z
UID:7476-1762353000-1762358400@araisa.ca
SUMMARY:Webinar: Francophone Immigrants with Teacher Training Completed Abroad
DESCRIPTION:This presentation uses data from the 2021 Census of Population to illustrate the impact of Francophone immigrants with foreign teacher education (FIFTEs) on the shortage of French-speaking teachers outside Quebec.
URL:https://araisa.ca/event/webinar-francophone-immigrants-with-teacher-training-completed-abroad/
LOCATION:QC
CATEGORIES:English,French,Webinar
END:VEVENT
BEGIN:VEVENT
DTSTART;TZID=America/Halifax:20251102T000000
DTEND;TZID=America/Halifax:20251108T235959
DTSTAMP:20260420T202750
CREATED:20250923T184552Z
LAST-MODIFIED:20250923T184553Z
UID:7373-1762041600-1762646399@araisa.ca
SUMMARY:13e Semaine nationale de l'immigration francophone
DESCRIPTION:2025 theme: Merci d’enrichir notre francophonie!  \n\n\n\nThis year\, National Francophone Immigration Week invites Francophone and Acadian communities to express their gratitude to immigrants\, whose cultural\, economic\, and social contributions enrich and energize our Francophone community.
URL:https://araisa.ca/event/13e-semaine-nationale-de-limmigration-francophone/
LOCATION:QC
CATEGORIES:Conference,French,Webinar
END:VEVENT
BEGIN:VEVENT
DTSTART;TZID=America/Halifax:20251029T000000
DTEND;TZID=America/Halifax:20251030T235959
DTSTAMP:20260420T202750
CREATED:20250528T132856Z
LAST-MODIFIED:20250528T132858Z
UID:6797-1761696000-1761868799@araisa.ca
SUMMARY:8th Metropolis Identities Conference
DESCRIPTION:
URL:https://araisa.ca/event/8th-metropolis-identities-conference/
LOCATION:Delta Hotel by Marriott Downtown Saskatoon \, Saskatchewan\, 405 20th St E\, Saskatoon\, SK\, S7K 6X6\, Canada
CATEGORIES:Conference,English,French
END:VEVENT
BEGIN:VEVENT
DTSTART;TZID=America/Halifax:20251009T100000
DTEND;TZID=America/Halifax:20251009T113000
DTSTAMP:20260420T202750
CREATED:20251001T195819Z
LAST-MODIFIED:20251001T195820Z
UID:7401-1760004000-1760009400@araisa.ca
SUMMARY:Webinar: Promising Practices and Strategies to Support Refugee Youth Employment
DESCRIPTION:This interactive webinar will explore how to support refugee youth on their paths to meaningful employment. Presenters will share evidence-based practices and strategies that prepare refugee youth for career pathways\, and participants will have the opportunity to consider how these lessons can be adapted for different organizations\, programs\, and communities.  
URL:https://araisa.ca/event/webinar-promising-practices-and-strategies-to-support-refugee-youth-employment/
LOCATION:QC
CATEGORIES:English,French,Webinar
END:VEVENT
BEGIN:VEVENT
DTSTART;TZID=America/Halifax:20251008T163000
DTEND;TZID=America/Halifax:20251008T200000
DTSTAMP:20260420T202750
CREATED:20250806T145614Z
LAST-MODIFIED:20250806T145617Z
UID:7168-1759941000-1759953600@araisa.ca
SUMMARY:Building Together: Tools\, Training\, and Funds Distribution
DESCRIPTION:ARAISA recently launched the Equity Project in partnership with NBMC. The goal is to work with grassroots organizations to build capacity and support better access to funding. This consultation for grassroots organizations is a great opportunity to come together\, share insights\, and collaborate on advancing equity in our communities. \n\n\n\nPlease note that these consultations are for grassroots organizations not currently funded by IRCC.
URL:https://araisa.ca/event/building-together-tools-training-and-funds-distribution-6/
LOCATION:Celtic Room\, Simon Hotel\, 380 Esplanade\, Sydney\, NS\, B1P1B1\, Canada
CATEGORIES:Consultation,English,French
ATTACH;FMTTYPE=image/png:https://araisa.ca/wp-content/uploads/2025/06/ARAISA_EquityProject_ThumbnailWebsite_2025.png
END:VEVENT
END:VCALENDAR