BEGIN:VCALENDAR
VERSION:2.0
PRODID:-//ARAISA - ECPv6.15.20//NONSGML v1.0//EN
CALSCALE:GREGORIAN
METHOD:PUBLISH
X-ORIGINAL-URL:https://araisa.ca
X-WR-CALDESC:Events for ARAISA
REFRESH-INTERVAL;VALUE=DURATION:PT1H
X-Robots-Tag:noindex
X-PUBLISHED-TTL:PT1H
BEGIN:VTIMEZONE
TZID:America/Halifax
BEGIN:DAYLIGHT
TZOFFSETFROM:-0400
TZOFFSETTO:-0300
TZNAME:ADT
DTSTART:20240310T060000
END:DAYLIGHT
BEGIN:STANDARD
TZOFFSETFROM:-0300
TZOFFSETTO:-0400
TZNAME:AST
DTSTART:20241103T050000
END:STANDARD
BEGIN:DAYLIGHT
TZOFFSETFROM:-0400
TZOFFSETTO:-0300
TZNAME:ADT
DTSTART:20250309T060000
END:DAYLIGHT
BEGIN:STANDARD
TZOFFSETFROM:-0300
TZOFFSETTO:-0400
TZNAME:AST
DTSTART:20251102T050000
END:STANDARD
BEGIN:DAYLIGHT
TZOFFSETFROM:-0400
TZOFFSETTO:-0300
TZNAME:ADT
DTSTART:20260308T060000
END:DAYLIGHT
BEGIN:STANDARD
TZOFFSETFROM:-0300
TZOFFSETTO:-0400
TZNAME:AST
DTSTART:20261101T050000
END:STANDARD
END:VTIMEZONE
BEGIN:VEVENT
DTSTART;TZID=America/Halifax:20250916T163000
DTEND;TZID=America/Halifax:20250916T200000
DTSTAMP:20260422T113132
CREATED:20250806T140221Z
LAST-MODIFIED:20250806T140223Z
UID:7162-1758040200-1758052800@araisa.ca
SUMMARY:Building Together: Tools\, Training\, and Funds Distribution
DESCRIPTION:ARAISA recently launched the Equity Project in partnership with NBMC. The goal is to work with grassroots organizations to build capacity and support better access to funding. This consultation for grassroots organizations is a great opportunity to come together\, share insights\, and collaborate on advancing equity in our communities. \n\n\n\nPlease note that these consultations are for grassroots organizations not currently funded by IRCC.
URL:https://araisa.ca/event/building-together-tools-training-and-funds-distribution-4/
LOCATION:Rotary A/B\, Charlottetown Library Learning Centre \,Dominion Building\, 97 Queen Street\, Charlottetown\, PEI\, C1A4A9\, Canada
CATEGORIES:Consultation,English,French
ATTACH;FMTTYPE=image/png:https://araisa.ca/wp-content/uploads/2025/06/ARAISA_EquityProject_ThumbnailWebsite_2025.png
END:VEVENT
BEGIN:VEVENT
DTSTART;TZID=America/Halifax:20250911T163000
DTEND;TZID=America/Halifax:20250911T200000
DTSTAMP:20260422T113132
CREATED:20250806T135407Z
LAST-MODIFIED:20250814T123149Z
UID:7159-1757608200-1757620800@araisa.ca
SUMMARY:Building Together: Tools\, Training\, and Funds Distribution
DESCRIPTION:ARAISA recently launched the Equity Project in partnership with NBMC. The goal is to work with grassroots organizations to build capacity and support better access to funding. This consultation for grassroots organizations is a great opportunity to come together\, share insights\, and collaborate on advancing equity in our communities. \n\n\n\nPlease note that these consultations are for grassroots organizations not currently funded by IRCC.
URL:https://araisa.ca/event/building-together-tools-training-and-funds-distribution-3/
LOCATION:Centre communautaire Sainte-Anne\, 715 Priestman Street\, Fredericton\, NB\, E3B5W7\, Canada
CATEGORIES:Consultation,English,French
ATTACH;FMTTYPE=image/png:https://araisa.ca/wp-content/uploads/2025/06/ARAISA_EquityProject_ThumbnailWebsite_2025.png
END:VEVENT
BEGIN:VEVENT
DTSTART;TZID=America/Halifax:20250910T143000
DTEND;TZID=America/Halifax:20250910T160000
DTSTAMP:20260422T113132
CREATED:20250903T163641Z
LAST-MODIFIED:20250903T163643Z
UID:7269-1757514600-1757520000@araisa.ca
SUMMARY:Research Matters: Exploring immigrant experiences and integration in small and mid-sized cities
DESCRIPTION:This event will explores how smaller cities and rural communities are working to welcome newcomers\, and why it’s more important than ever. You’ll hear fresh insights from international fieldwork that reveal what helps immigrants feel at home\, and how communities can grow stronger by listening to their lived experiences. 
URL:https://araisa.ca/event/research-matters-exploring-immigrant-experiences-and-integration-in-small-and-mid-sized-cities/
CATEGORIES:English,French,Webinar
END:VEVENT
BEGIN:VEVENT
DTSTART;TZID=America/Halifax:20250905T123000
DTEND;TZID=America/Halifax:20250905T133000
DTSTAMP:20260422T113132
CREATED:20250827T133750Z
LAST-MODIFIED:20250827T133751Z
UID:7232-1757075400-1757079000@araisa.ca
SUMMARY:Stop Bill C-2
DESCRIPTION:Learn about the impact of the Bill\, including how it will harm violence survivors and refugee claimants\, and attack privacy and civil liberties.
URL:https://araisa.ca/event/stop-bill-c-2/
CATEGORIES:English,French,Webinar
END:VEVENT
BEGIN:VEVENT
DTSTART;TZID=America/Halifax:20250904T150000
DTEND;TZID=America/Halifax:20250904T160000
DTSTAMP:20260422T113132
CREATED:20250903T164618Z
LAST-MODIFIED:20250903T164619Z
UID:7277-1756998000-1757001600@araisa.ca
SUMMARY:"Words That Move People" CCR Messaging Campaign
DESCRIPTION:A first look at the research results from Phase 1 of CCR’s national messaging campaign: the message testing survey conducted in partnership with ASO Communications and EKOS Research Associates Inc.
URL:https://araisa.ca/event/words-that-move-people-ccr-messaging-campaign/
CATEGORIES:English,French,Webinar
END:VEVENT
BEGIN:VEVENT
DTSTART;TZID=America/Halifax:20250904T150000
DTEND;TZID=America/Halifax:20250904T160000
DTSTAMP:20260422T113132
CREATED:20250730T120857Z
LAST-MODIFIED:20250730T120858Z
UID:7110-1756998000-1757001600@araisa.ca
SUMMARY:Réunion virtuelle sur les demandes présentées dans le cadre du délai prescrit d'un an (DPUA)
DESCRIPTION:This session (in French) will address issues related to eligibility for applications submitted within the one-year window of opportunity provision (OYW) (e.g.\, what to do if family members were not declared).
URL:https://araisa.ca/event/reunion-virtuelle-sur-les-demandes-presentees-dans-le-cadre-du-delai-prescrit-dun-an-dpua/
CATEGORIES:French,Webinar
END:VEVENT
BEGIN:VEVENT
DTSTART;TZID=America/Halifax:20250827T163000
DTEND;TZID=America/Halifax:20250827T200000
DTSTAMP:20260422T113132
CREATED:20250806T135156Z
LAST-MODIFIED:20250814T123231Z
UID:7155-1756312200-1756324800@araisa.ca
SUMMARY:Building Together: Tools\, Training\, and Funds Distribution
DESCRIPTION:ARAISA recently launched the Equity Project in partnership with NBMC. The goal is to work with grassroots organizations to build capacity and support better access to funding. This consultation for grassroots organizations is a great opportunity to come together\, share insights\, and collaborate on advancing equity in our communities. \n\n\n\nPlease note that these consultations are for grassroots organizations not currently funded by IRCC.
URL:https://araisa.ca/event/building-together-tools-training-and-funds-distribution-2/
LOCATION:Centre des Arts et de la Culture de Dieppe / Dieppe Arts and Culture Center\, 331 Acadie Avenue\, Dieppe\, NB\, E1A1G9\, Canada
CATEGORIES:Consultation,English,French
ATTACH;FMTTYPE=image/png:https://araisa.ca/wp-content/uploads/2025/06/ARAISA_EquityProject_ThumbnailWebsite_2025.png
END:VEVENT
BEGIN:VEVENT
DTSTART;TZID=America/Halifax:20250827T143000
DTEND;TZID=America/Halifax:20250827T153000
DTSTAMP:20260422T113132
CREATED:20250820T133457Z
LAST-MODIFIED:20250820T133458Z
UID:7215-1756305000-1756308600@araisa.ca
SUMMARY:Enhancing Settlement Services Through Social Media
DESCRIPTION:Join this webinar to learn more about a research project conducted between fall 2022 and spring 2024 that explored how service provider organizations (SPOs) in Canada could use social media to better support newcomers.
URL:https://araisa.ca/event/enhancing-settlement-services-through-social-media/
CATEGORIES:English,French,Webinar
END:VEVENT
BEGIN:VEVENT
DTSTART;TZID=America/Halifax:20250820T163000
DTEND;TZID=America/Halifax:20250820T200000
DTSTAMP:20260422T113132
CREATED:20250806T134615Z
LAST-MODIFIED:20250806T134617Z
UID:7152-1755707400-1755720000@araisa.ca
SUMMARY:Building Together: Tools\, Training\, and Funds Distribution
DESCRIPTION:ARAISA recently launched the Equity Project in partnership with NBMC. The goal is to work with grassroots organizations to build capacity and support better access to funding. This consultation for grassroots organizations is a great opportunity to come together\, share insights\, and collaborate on advancing equity in our communities. \n\n\n\nPlease note that these consultations are for grassroots organizations not currently funded by IRCC.
URL:https://araisa.ca/event/building-together-tools-training-and-funds-distribution/
LOCATION:Avery Room\, Shubie Park\, 54 Locks Road\, Dartmouth\, NS\, B2X2W7\, Canada
CATEGORIES:Consultation,English,French
ATTACH;FMTTYPE=image/png:https://araisa.ca/wp-content/uploads/2025/06/ARAISA_EquityProject_ThumbnailWebsite_2025.png
END:VEVENT
BEGIN:VEVENT
DTSTART;TZID=America/Halifax:20250715T080000
DTEND;TZID=America/Halifax:20250715T170000
DTSTAMP:20260422T113132
CREATED:20250409T180230Z
LAST-MODIFIED:20250409T180307Z
UID:6555-1752566400-1752598800@araisa.ca
SUMMARY:Cours en ligne: Ponts Vers la Sécurité
DESCRIPTION:This course consists of five modules\, is self-directed\, lasts approximately 15 hours\, and at the end of the course\, participants will receive a certificate of completion. \n\nThis course is recommended for people working in the settlement sector across Canada. \n\nIt aims to create a common knowledge base on gender-based violence in order to recognize and respond to it.
URL:https://araisa.ca/event/cours-en-ligne-ponts-vers-la-securite-2/
CATEGORIES:Course,French
END:VEVENT
BEGIN:VEVENT
DTSTART;TZID=America/Halifax:20250709T143000
DTEND;TZID=America/Halifax:20250709T160000
DTSTAMP:20260422T113132
CREATED:20250630T195202Z
LAST-MODIFIED:20250630T195203Z
UID:6982-1752071400-1752076800@araisa.ca
SUMMARY:Research Matters: Impacts of immigration on the housing market
DESCRIPTION:“[This online] Research Matters event […] explores the impacts of immigration on the housing market. The event will feature 2 presentations by leading researchers from IRCC\, the University of Toronto and Toronto Metropolitan University. It will delve into challenges related to housing needs\, prices and accessibility.”
URL:https://araisa.ca/event/research-matters-impacts-of-immigration-on-the-housing-market/
CATEGORIES:English,French,Webinar
END:VEVENT
BEGIN:VEVENT
DTSTART;TZID=America/Halifax:20250708T140000
DTEND;TZID=America/Halifax:20250708T153000
DTSTAMP:20260422T113132
CREATED:20250630T194847Z
LAST-MODIFIED:20250630T194850Z
UID:6979-1751983200-1751988600@araisa.ca
SUMMARY:Employment Supports for Immigrants
DESCRIPTION:Online webinar
URL:https://araisa.ca/event/employment-supports-for-immigrants/
CATEGORIES:English,French,Webinar
END:VEVENT
BEGIN:VEVENT
DTSTART;TZID=America/Halifax:20250626T133000
DTEND;TZID=America/Halifax:20250626T150000
DTSTAMP:20260422T113132
CREATED:20250611T150022Z
LAST-MODIFIED:20250611T150023Z
UID:6885-1750944600-1750950000@araisa.ca
SUMMARY:EDI and Anti-Racism Action Planning for Atlantic SPOs - Online Learning Series (Part 2)
DESCRIPTION:Join us for this two-part online professional development series designed to equip leadership and staff of Service Provider Organizations (SPOs) with the tools and knowledge needed to meet IRCC’s new Anti-Racism Action Plan requirements.
URL:https://araisa.ca/event/edi-and-anti-racism-action-planning-for-atlantic-spos-online-learning-series-part-2/
CATEGORIES:English,French,Webinar
ATTACH;FMTTYPE=image/png:https://araisa.ca/wp-content/uploads/2025/06/ARAISA_ARAPwebinar_ThumbnailWebsite_2025.png
END:VEVENT
BEGIN:VEVENT
DTSTART;TZID=America/Halifax:20250619T133000
DTEND;TZID=America/Halifax:20250619T150000
DTSTAMP:20260422T113132
CREATED:20250611T145730Z
LAST-MODIFIED:20250611T145733Z
UID:6883-1750339800-1750345200@araisa.ca
SUMMARY:EDI and Anti-Racism Action Planning for Atlantic SPOs - Online Learning Series (Part 1)
DESCRIPTION:Join us for this two-part online professional development series designed to equip leadership and staff of Service Provider Organizations (SPOs) with the tools and knowledge needed to meet IRCC’s new Anti-Racism Action Plan requirements.
URL:https://araisa.ca/event/edi-and-anti-racism-action-planning-for-atlantic-spos-online-learning-series-part-1/
CATEGORIES:English,French,Webinar
ATTACH;FMTTYPE=image/png:https://araisa.ca/wp-content/uploads/2025/06/ARAISA_ARAPwebinar_ThumbnailWebsite_2025.png
END:VEVENT
BEGIN:VEVENT
DTSTART;TZID=America/Halifax:20250618T143000
DTEND;TZID=America/Halifax:20250618T153000
DTSTAMP:20260422T113132
CREATED:20250612T182834Z
LAST-MODIFIED:20250612T182835Z
UID:6896-1750257000-1750260600@araisa.ca
SUMMARY:Research Matters: Vulnerable migrants in Canada: definitions\, practices\, and issues
DESCRIPTION:This Research Matters event will present the results of a large research project focusing on the legal protection of vulnerable migrants in Canada. The presentation will explain how vulnerability is defined legally and understood by policymakers\, as well as the practical implications of this designation for migrants\, highlighting advances and challenges in this area.
URL:https://araisa.ca/event/research-matters-vulnerable-migrants-in-canada-definitions-practices-and-issues/
CATEGORIES:English,French,Webinar
END:VEVENT
BEGIN:VEVENT
DTSTART;TZID=America/Halifax:20250605T133000
DTEND;TZID=America/Halifax:20250605T150000
DTSTAMP:20260422T113132
CREATED:20250528T131902Z
LAST-MODIFIED:20250528T131904Z
UID:6794-1749130200-1749135600@araisa.ca
SUMMARY:Finding Common Ground - Supporting First Nations-Led Policing
DESCRIPTION:After years of development\, engagement\, and consultation\, the first Indigenous Justice Strategy was released in Canada in March 2025. A key element of the strategy will be supporting access to culturally responsive policing. This webcast will bring First Nations leaders and policy experts together to discuss strategies\, resources\, and investments in First Nations-led policing and access to justice.
URL:https://araisa.ca/event/finding-common-ground-supporting-first-nations-led-policing/
CATEGORIES:English,French,Webinar
END:VEVENT
BEGIN:VEVENT
DTSTART;TZID=America/Halifax:20250529T150000
DTEND;TZID=America/Halifax:20250529T160000
DTSTAMP:20260422T113132
CREATED:20250507T191407Z
LAST-MODIFIED:20250507T191410Z
UID:6710-1748530800-1748534400@araisa.ca
SUMMARY:IRPA s. 91 virtual townhall
DESCRIPTION:This one hour online meeting will explore what IRPA section 91 means for NGOs who assist applicants with their immigration applications\, in light of IRCC’s recently revised interpretation of the provision. Legal experts will respond to participants questions.
URL:https://araisa.ca/event/irpa-s-91-virtual-townhall/
CATEGORIES:English,French,Webinar
END:VEVENT
BEGIN:VEVENT
DTSTART;TZID=America/Halifax:20250529T080000
DTEND;TZID=America/Halifax:20250530T170000
DTSTAMP:20260422T113132
CREATED:20250402T115048Z
LAST-MODIFIED:20250402T115049Z
UID:6519-1748505600-1748624400@araisa.ca
SUMMARY:Forum Annuel - Réseau en Immigration Francophone du Nouveau-Brunswick
DESCRIPTION:The Réseau en Immigration Francophone du Nouveau-Brunswick (RIFNB) is organizing the 5th edition of its annual forum. \n\n\n\nAt the heart of this event: rich exchanges on the challenges encountered in urban and rural environments\, inspiring solutions and concrete initiatives to strengthen inclusion\, diversity and equity in all spheres of society.
URL:https://araisa.ca/event/forum-annuel-reseau-en-immigration-francophone-du-nouveau-brunswick/
LOCATION:Crowne Plaza Moncton Downtown\, an IHG Hotel\, 1005 Main Street\, Moncton\, NB\, E1C 1G9\, Canada
CATEGORIES:Conference,French
END:VEVENT
BEGIN:VEVENT
DTSTART;TZID=America/Halifax:20250508T130000
DTEND;TZID=America/Halifax:20250508T153000
DTSTAMP:20260422T113132
CREATED:20250409T181428Z
LAST-MODIFIED:20250507T144546Z
UID:6563-1746709200-1746718200@araisa.ca
SUMMARY:Webinar: An Introduction to the National GBA Plus Resource Guide
DESCRIPTION:Is your organization looking to create a more inclusive environment? Could you benefit from resources that help you to advance equity in your policies and services? \n\n\n\nYou’re invited to join AMSSA\, AAISA\, SAISIA\, MANSO\, OCASI and ARAISA for a webinar introducing the new National GBA Plus Resource Guide. In this webinar\, members of the National Research and GBA Plus team will show you how to use the tools in the Guide\, created specifically to meet the GBA Plus needs of newcomer serving agencies.
URL:https://araisa.ca/event/webinar-an-introduction-to-the-ircc-national-gba-plus-resource-guide/
CATEGORIES:English,French,Webinar
END:VEVENT
BEGIN:VEVENT
DTSTART;TZID=America/Halifax:20250430T150000
DTEND;TZID=America/Halifax:20250430T164500
DTSTAMP:20260422T113132
CREATED:20250409T180513Z
LAST-MODIFIED:20250409T180515Z
UID:6556-1746025200-1746031500@araisa.ca
SUMMARY:Webinar: Trauma-Sensitive Financial Literacy Guidance for the Settlement and Integration Sector
DESCRIPTION:This ARAISA webinar is ideal for service providers looking to enhance their financial support with a trauma-informed lens. You’ll learn practical tools to support newcomers experiencing financial shock due to displacement\, migration\, and systemic barriers.
URL:https://araisa.ca/event/webinar-trauma-sensitive-financial-literacy-guidance-for-the-settlement-and-integration-sector/
CATEGORIES:English,French,Webinar
ATTACH;FMTTYPE=image/png:https://araisa.ca/wp-content/uploads/2025/04/ARAISA_TOMwebinar_WebinarThumbnail_Apr2025.png
END:VEVENT
BEGIN:VEVENT
DTSTART;TZID=America/Halifax:20250424T000000
DTEND;TZID=America/Halifax:20250425T235959
DTSTAMP:20260422T113132
CREATED:20250312T175225Z
LAST-MODIFIED:20250312T175226Z
UID:6402-1745452800-1745625599@araisa.ca
SUMMARY:18e Symposium annuel sur l'immigration francophone
DESCRIPTION:The symposium has been organized since 2006 by the Fédération des communautés francophones et acadiennes (FCFA) du Canada and funded by Immigration\, Refugees and Citizenship Canada (IRCC). This year’s theme is L’individu en perspective : le bien être éclairé par l’intersectionnalité.
URL:https://araisa.ca/event/18e-symposium-annuel-sur-limmigration-francophone/
LOCATION:Infinity convention center\, 2901 Gibford Drive\, Ottawa\, ON\, K1V 2L9\, Canada
CATEGORIES:Conference,French
END:VEVENT
BEGIN:VEVENT
DTSTART;TZID=America/Halifax:20250403T150000
DTEND;TZID=America/Halifax:20250403T170000
DTSTAMP:20260422T113132
CREATED:20250402T113959Z
LAST-MODIFIED:20250402T114014Z
UID:6511-1743692400-1743699600@araisa.ca
SUMMARY:Protecting the Right to Asylum in a Closing World: Reflecting on the 40th Anniversary of Refugee Rights Day
DESCRIPTION:The Canadian Council for Refugees\, the Centre for International Policy Studies and the Human Rights Research and Education Centre are hosting a panel discussion to commemorate Refugee Rights Day in Canada. This year marks the 40th anniversary of the Singh Decision\, which ruled that the Canadian Charter of Rights and Freedoms protects the fundamental rights of refugees\, including refugee claimants and their right to an oral hearing in the determination of their case. \n\n\n\nIn-person in Ottawa\, and online via Zoom.
URL:https://araisa.ca/event/protecting-the-right-to-asylum-in-a-closing-world-reflecting-on-the-40th-anniversary-of-refugee-rights-day/
LOCATION:University of Ottawa\, 120 University Private - FSS 4007\, Faculty of Social Sciences\, University of Ottawa\, Ottawa\, ON\, K1N 6N5\, Canada
CATEGORIES:Conference,English,French,Webinar
END:VEVENT
BEGIN:VEVENT
DTSTART;TZID=America/Halifax:20250325T150000
DTEND;TZID=America/Halifax:20250325T160000
DTSTAMP:20260422T113132
CREATED:20250227T125542Z
LAST-MODIFIED:20250227T125831Z
UID:6309-1742914800-1742918400@araisa.ca
SUMMARY:Virtual Session on Climate Migration
DESCRIPTION:Participants will have the opportunity to gain insight into the root causes of climate-related forced migration. The webinar will also examine the international and Canadian policy gaps that hinder the protection of refugees and asylum seekers in the context of climate change and explore potential solutions. Additionally\, it will discuss the impacts that displaced people may face at various stages of migration\, including on their health and well-being.
URL:https://araisa.ca/event/virtual-session-on-climate-migration/
CATEGORIES:English,French,Webinar
END:VEVENT
BEGIN:VEVENT
DTSTART;TZID=America/Halifax:20250321T143000
DTEND;TZID=America/Halifax:20250321T153000
DTSTAMP:20260422T113132
CREATED:20250319T135317Z
LAST-MODIFIED:20250319T135318Z
UID:6466-1742567400-1742571000@araisa.ca
SUMMARY:Career pathways for racialized newcomer women: Findings and lessons learned
DESCRIPTION:Learn more about the Career Pathways for racialized newcomer women pilot project. During this presentation you will learn how a large-scale pilot of targeted employment services was designed\, implemented\, and evaluated. The research findings\, along with insights from targeted programming\, will be discussed.
URL:https://araisa.ca/event/career-pathways-for-racialized-newcomer-women-findings-and-lessons-learned/
CATEGORIES:English,French,Webinar
END:VEVENT
BEGIN:VEVENT
DTSTART;TZID=America/Halifax:20250320T093000
DTEND;TZID=America/Halifax:20250320T170000
DTSTAMP:20260422T113132
CREATED:20250312T174515Z
LAST-MODIFIED:20250312T174657Z
UID:6398-1742463000-1742490000@araisa.ca
SUMMARY:La francophonie canadienne en chiffres: Résultats de l’enquête sur la population de langue officielle en contexte minoritaire
DESCRIPTION:In-person and online event. A study day organized jointly by the Observatoire de l’immigration francophone au Canada and the CERC in Migration and Integration.
URL:https://araisa.ca/event/la-francophonie-canadienne-en-chiffres-resultats-de-lenquete-sur-la-population-de-langue-officielle-en-contexte-minoritaire/
LOCATION:CERC Migration\, 220 Younge Street\, Toronto\, ON\, M5B2H1\, Canada
CATEGORIES:Conference,French
END:VEVENT
BEGIN:VEVENT
DTSTART;TZID=America/Halifax:20250319T150000
DTEND;TZID=America/Halifax:20250319T163000
DTSTAMP:20260422T113132
CREATED:20250212T154058Z
LAST-MODIFIED:20250212T155115Z
UID:6233-1742396400-1742401800@araisa.ca
SUMMARY:Future Trends: AI in Education: Predict How AI Will Shape Language Learning\, Classroom Dynamics\, and Teacher Roles
DESCRIPTION:Generative Artificial Intelligence (GenAI) is transforming the educational landscape\, reshaping how languages are learned\, taught\, and experienced. This presentation explores GenAI’s potential impacts on language learning\, examining how innovative tools can personalize education\, facilitate dynamic classroom interactions\, and redefine the teacher’s role as a guide and facilitator. Join us as we explore future trends\, challenges\, and opportunities\, and discuss how GenAI can support learners’ language learning\, empower educators\, and strengthen outcomes in diverse settlement-focused programs.
URL:https://araisa.ca/event/future-trends-ai-in-education-predict-how-ai-will-shape-language-learning-classroom-dynamics-and-teacher-roles/
CATEGORIES:English,French,Webinar
ATTACH;FMTTYPE=image/jpeg:https://araisa.ca/wp-content/uploads/2024/08/fair_426x264.jpg
END:VEVENT
BEGIN:VEVENT
DTSTART;TZID=America/Halifax:20250318T000000
DTEND;TZID=America/Halifax:20250320T235959
DTSTAMP:20260422T113133
CREATED:20250219T182321Z
LAST-MODIFIED:20250219T182324Z
UID:6270-1742256000-1742515199@araisa.ca
SUMMARY:CNERJ National Equity & Racial Justice Conference
DESCRIPTION:The goal of this first national in-person and online CNERJ conference is to amplify regional issues at the national level\, strengthen a growing national network of regional changemakers \, and facilitate the planning of cross-border initiatives to tangibly advance equity and racial justice in public policies and civil societies across North America in 2025-2026.
URL:https://araisa.ca/event/cnerj-national-equity-racial-justice-conference/
LOCATION:Toronto Metropolitan University\, 350 Victoria Street\, Toronto\, ON\, M5B 2K3\, Canada
CATEGORIES:Conference,English,French
END:VEVENT
BEGIN:VEVENT
DTSTART;TZID=America/Halifax:20250313T080000
DTEND;TZID=America/Halifax:20250315T170000
DTSTAMP:20260422T113133
CREATED:20250115T172141Z
LAST-MODIFIED:20250115T172143Z
UID:5787-1741852800-1742058000@araisa.ca
SUMMARY:27th Metropolis Canada Conference
DESCRIPTION:
URL:https://araisa.ca/event/27th-metropolis-canada-conference/
LOCATION:The Westin Harbor Castle\, 1 Harbour Square\, Toronto\, ON\, M5J 1A6\, Canada
CATEGORIES:Conference,English,French
END:VEVENT
BEGIN:VEVENT
DTSTART;TZID=America/Halifax:20250311T120000
DTEND;TZID=America/Halifax:20250311T133000
DTSTAMP:20260422T113133
CREATED:20250305T143527Z
LAST-MODIFIED:20250305T143528Z
UID:6336-1741694400-1741699800@araisa.ca
SUMMARY:Settlement and Integration 2030
DESCRIPTION:Join this webinar for an insightful discussion with sector leaders from across Canada as they explore the pressing issues of today and share their bold vision for a stronger\, more inclusive Canada for all.
URL:https://araisa.ca/event/settlement-and-integration-2030/
CATEGORIES:English,French,Webinar
END:VEVENT
BEGIN:VEVENT
DTSTART;TZID=America/Halifax:20250306T140000
DTEND;TZID=America/Halifax:20250306T160000
DTSTAMP:20260422T113133
CREATED:20250219T181304Z
LAST-MODIFIED:20250219T181306Z
UID:6262-1741269600-1741276800@araisa.ca
SUMMARY:Empowering Safer Spaces Campaign Launch
DESCRIPTION:Join the Empowering Safer Spaces campaign launch\, a vital initiative dedicated to ending gender-based violence (GBV) and creating safe\, inclusive environments for immigrants and refugees across Canada.
URL:https://araisa.ca/event/empowering-safer-spaces-campaign-launch/
CATEGORIES:English,French,Webinar
ATTACH;FMTTYPE=image/png:https://araisa.ca/wp-content/uploads/2025/02/Campaign-poster-EN.png
END:VEVENT
END:VCALENDAR