BEGIN:VCALENDAR
VERSION:2.0
PRODID:-//ARAISA - ECPv6.15.20//NONSGML v1.0//EN
CALSCALE:GREGORIAN
METHOD:PUBLISH
X-WR-CALNAME:ARAISA
X-ORIGINAL-URL:https://araisa.ca/fr/
X-WR-CALDESC:évènements pour ARAISA
REFRESH-INTERVAL;VALUE=DURATION:PT1H
X-Robots-Tag:noindex
X-PUBLISHED-TTL:PT1H
BEGIN:VTIMEZONE
TZID:America/Halifax
BEGIN:DAYLIGHT
TZOFFSETFROM:-0400
TZOFFSETTO:-0300
TZNAME:ADT
DTSTART:20250309T060000
END:DAYLIGHT
BEGIN:STANDARD
TZOFFSETFROM:-0300
TZOFFSETTO:-0400
TZNAME:AST
DTSTART:20251102T050000
END:STANDARD
BEGIN:DAYLIGHT
TZOFFSETFROM:-0400
TZOFFSETTO:-0300
TZNAME:ADT
DTSTART:20260308T060000
END:DAYLIGHT
BEGIN:STANDARD
TZOFFSETFROM:-0300
TZOFFSETTO:-0400
TZNAME:AST
DTSTART:20261101T050000
END:STANDARD
BEGIN:DAYLIGHT
TZOFFSETFROM:-0400
TZOFFSETTO:-0300
TZNAME:ADT
DTSTART:20270314T060000
END:DAYLIGHT
BEGIN:STANDARD
TZOFFSETFROM:-0300
TZOFFSETTO:-0400
TZNAME:AST
DTSTART:20271107T050000
END:STANDARD
END:VTIMEZONE
BEGIN:VEVENT
DTSTART;TZID=America/Halifax:20260311T140000
DTEND;TZID=America/Halifax:20260311T150000
DTSTAMP:20260424T124929
CREATED:20260211T145128Z
LAST-MODIFIED:20260211T145130Z
UID:7876-1773237600-1773241200@araisa.ca
SUMMARY:Réaliser des audits d’équité et créer des groupes de travail sur l’équité
DESCRIPTION:Cet atelier interactif s’adresse aux dirigeant.e.s et membres du personnel d’OBNL et d’organismes de bienfaisance\, ainsi qu’aux intervenant.e.s dans le domaine de l’équité qui cherchent à concrétiser les efforts de leur organisation en matière d’équité et à solidifier leur capacité à matérialiser ces valeurs au quotidien.
URL:https://araisa.ca/fr/event/realiser-des-audits-dequite-et-creer-des-groupes-de-travail-sur-lequite/
LOCATION:QC
CATEGORIES:Français,Webinaire
END:VEVENT
END:VCALENDAR