BEGIN:VCALENDAR
VERSION:2.0
PRODID:-//ARAISA - ECPv6.15.20//NONSGML v1.0//EN
CALSCALE:GREGORIAN
METHOD:PUBLISH
X-ORIGINAL-URL:https://araisa.ca/fr/
X-WR-CALDESC:évènements pour ARAISA
REFRESH-INTERVAL;VALUE=DURATION:PT1H
X-Robots-Tag:noindex
X-PUBLISHED-TTL:PT1H
BEGIN:VTIMEZONE
TZID:America/Halifax
BEGIN:DAYLIGHT
TZOFFSETFROM:-0400
TZOFFSETTO:-0300
TZNAME:ADT
DTSTART:20250309T060000
END:DAYLIGHT
BEGIN:STANDARD
TZOFFSETFROM:-0300
TZOFFSETTO:-0400
TZNAME:AST
DTSTART:20251102T050000
END:STANDARD
BEGIN:DAYLIGHT
TZOFFSETFROM:-0400
TZOFFSETTO:-0300
TZNAME:ADT
DTSTART:20260308T060000
END:DAYLIGHT
BEGIN:STANDARD
TZOFFSETFROM:-0300
TZOFFSETTO:-0400
TZNAME:AST
DTSTART:20261101T050000
END:STANDARD
BEGIN:DAYLIGHT
TZOFFSETFROM:-0400
TZOFFSETTO:-0300
TZNAME:ADT
DTSTART:20270314T060000
END:DAYLIGHT
BEGIN:STANDARD
TZOFFSETFROM:-0300
TZOFFSETTO:-0400
TZNAME:AST
DTSTART:20271107T050000
END:STANDARD
END:VTIMEZONE
BEGIN:VEVENT
DTSTART;TZID=America/Halifax:20260520T000000
DTEND;TZID=America/Halifax:20260522T235959
DTSTAMP:20260424T121441
CREATED:20260417T124336Z
LAST-MODIFIED:20260417T124339Z
UID:8180-1779235200-1779494399@araisa.ca
SUMMARY:Technologies numériques\, pouvoir d'agir\, contrôle et exclusion dans les trajectoires migratoires
DESCRIPTION:Les technologies numériques (TN) transforment la mobilité humaine La conférence 2026 du programme de recherche Apogée – Réduire les clivages (Bridging Divides) explorera comment les TN façonnent les parcours migratoires\, depuis les décisions initiales au départ jusqu’à l’intégration à long terme.
URL:https://araisa.ca/fr/event/technologies-numeriques-pouvoir-dagir-controle-et-exclusion-dans-les-trajectoires-migratoires/
LOCATION:Concordia University John Molson Building\, 1520 Rue Guy\, Montreal\, QC\, H3H 0A1\, Canada
CATEGORIES:Anglais,Conférence,Français
END:VEVENT
BEGIN:VEVENT
DTSTART;TZID=America/Halifax:20260521T143000
DTEND;TZID=America/Halifax:20260521T160000
DTSTAMP:20260424T121441
CREATED:20260417T122144Z
LAST-MODIFIED:20260417T122319Z
UID:8173-1779373800-1779379200@araisa.ca
SUMMARY:Assess your Organization’s Digital Capabilities
DESCRIPTION:Le Digital Governance Standards Institute (DGSI) a publié une nouvelle norme DGSI 135 : Cadre d’évaluation des capacités numériques pour les organisations à but non lucratif. Cet atelier\, en anglais\, sera axé sur la manière de participer au programme de vérification et d’utiliser la norme DGSI 135 pour évaluer les capacités numériques de votre organisation.
URL:https://araisa.ca/fr/event/assess-your-organizations-digital-capabilities/
LOCATION:QC
CATEGORIES:Anglais,Webinaire
END:VEVENT
END:VCALENDAR