BEGIN:VCALENDAR
VERSION:2.0
PRODID:-//ARAISA - ECPv6.15.20//NONSGML v1.0//EN
CALSCALE:GREGORIAN
METHOD:PUBLISH
X-ORIGINAL-URL:https://araisa.ca/fr/
X-WR-CALDESC:évènements pour ARAISA
REFRESH-INTERVAL;VALUE=DURATION:PT1H
X-Robots-Tag:noindex
X-PUBLISHED-TTL:PT1H
BEGIN:VTIMEZONE
TZID:America/Halifax
BEGIN:DAYLIGHT
TZOFFSETFROM:-0400
TZOFFSETTO:-0300
TZNAME:ADT
DTSTART:20250309T060000
END:DAYLIGHT
BEGIN:STANDARD
TZOFFSETFROM:-0300
TZOFFSETTO:-0400
TZNAME:AST
DTSTART:20251102T050000
END:STANDARD
BEGIN:DAYLIGHT
TZOFFSETFROM:-0400
TZOFFSETTO:-0300
TZNAME:ADT
DTSTART:20260308T060000
END:DAYLIGHT
BEGIN:STANDARD
TZOFFSETFROM:-0300
TZOFFSETTO:-0400
TZNAME:AST
DTSTART:20261101T050000
END:STANDARD
BEGIN:DAYLIGHT
TZOFFSETFROM:-0400
TZOFFSETTO:-0300
TZNAME:ADT
DTSTART:20270314T060000
END:DAYLIGHT
BEGIN:STANDARD
TZOFFSETFROM:-0300
TZOFFSETTO:-0400
TZNAME:AST
DTSTART:20271107T050000
END:STANDARD
END:VTIMEZONE
BEGIN:VEVENT
DTSTART;TZID=America/Halifax:20260611T143000
DTEND;TZID=America/Halifax:20260611T154500
DTSTAMP:20260422T231808
CREATED:20260417T123324Z
LAST-MODIFIED:20260417T123448Z
UID:8175-1781188200-1781192700@araisa.ca
SUMMARY:Integrated Mental Health Care for Refugees - What Works? For Whom? Why?
DESCRIPTION:Ce webinaire\, en anglais\, examine les raisons pour lesquelles les soins de santé mentale intégrés fonctionnent pour certaines personnes réfugiées et pas pour d’autres.
URL:https://araisa.ca/fr/event/integrated-mental-health-care-for-refugees-what-works-for-whom-why/
LOCATION:QC
CATEGORIES:Anglais,Webinaire
END:VEVENT
END:VCALENDAR